BEGIN:VCALENDAR
VERSION:2.0
PRODID:-//Conahan&#039;s Driving School - ECPv6.15.20//NONSGML v1.0//EN
CALSCALE:GREGORIAN
METHOD:PUBLISH
X-ORIGINAL-URL:https://conahansdrivingschool.org
X-WR-CALDESC:Events for Conahan&#039;s Driving School
REFRESH-INTERVAL;VALUE=DURATION:PT1H
X-Robots-Tag:noindex
X-PUBLISHED-TTL:PT1H
BEGIN:VTIMEZONE
TZID:America/Denver
BEGIN:DAYLIGHT
TZOFFSETFROM:-0700
TZOFFSETTO:-0600
TZNAME:MDT
DTSTART:20240310T090000
END:DAYLIGHT
BEGIN:STANDARD
TZOFFSETFROM:-0600
TZOFFSETTO:-0700
TZNAME:MST
DTSTART:20241103T080000
END:STANDARD
BEGIN:DAYLIGHT
TZOFFSETFROM:-0700
TZOFFSETTO:-0600
TZNAME:MDT
DTSTART:20250309T090000
END:DAYLIGHT
BEGIN:STANDARD
TZOFFSETFROM:-0600
TZOFFSETTO:-0700
TZNAME:MST
DTSTART:20251102T080000
END:STANDARD
BEGIN:DAYLIGHT
TZOFFSETFROM:-0700
TZOFFSETTO:-0600
TZNAME:MDT
DTSTART:20260308T090000
END:DAYLIGHT
BEGIN:STANDARD
TZOFFSETFROM:-0600
TZOFFSETTO:-0700
TZNAME:MST
DTSTART:20261101T080000
END:STANDARD
END:VTIMEZONE
BEGIN:VEVENT
DTSTART;TZID=America/Denver:20250301T090000
DTEND;TZID=America/Denver:20250301T153000
DTSTAMP:20260419T090301
CREATED:20240715T045318Z
LAST-MODIFIED:20240715T045318Z
UID:10000085-1740819600-1740843000@conahansdrivingschool.org
SUMMARY:Fort Collins Driver's Ed Classes - February / March 2025 - Saturday
DESCRIPTION:
URL:https://conahansdrivingschool.org/classes/fort-collins-drivers-ed-classes-february-march-2025-saturday/2025-03-01/
LOCATION:Fort Collins – Homewood Suites\, 1521 Oakridge Dr\, Fort Collins\, CO\, 80525\, United States
CATEGORIES:Fort Collins Driver’s Ed Classes
END:VEVENT
BEGIN:VEVENT
DTSTART;TZID=America/Denver:20250302T090000
DTEND;TZID=America/Denver:20250302T153000
DTSTAMP:20260419T090301
CREATED:20240715T045416Z
LAST-MODIFIED:20240715T045416Z
UID:10000095-1740906000-1740929400@conahansdrivingschool.org
SUMMARY:Fort Collins Driver's Ed Classes - February / March 2025 - Sunday
DESCRIPTION:
URL:https://conahansdrivingschool.org/classes/fort-collins-drivers-ed-classes-february-march-2025-sunday/2025-03-02/
LOCATION:Fort Collins – Homewood Suites\, 1521 Oakridge Dr\, Fort Collins\, CO\, 80525\, United States
CATEGORIES:Fort Collins Driver’s Ed Classes
END:VEVENT
BEGIN:VEVENT
DTSTART;TZID=America/Denver:20250308T090000
DTEND;TZID=America/Denver:20250308T153000
DTSTAMP:20260419T090301
CREATED:20240715T045318Z
LAST-MODIFIED:20240715T045318Z
UID:10000086-1741424400-1741447800@conahansdrivingschool.org
SUMMARY:Fort Collins Driver's Ed Classes - February / March 2025 - Saturday
DESCRIPTION:
URL:https://conahansdrivingschool.org/classes/fort-collins-drivers-ed-classes-february-march-2025-saturday/2025-03-08/
LOCATION:Fort Collins – Homewood Suites\, 1521 Oakridge Dr\, Fort Collins\, CO\, 80525\, United States
CATEGORIES:Fort Collins Driver’s Ed Classes
END:VEVENT
BEGIN:VEVENT
DTSTART;TZID=America/Denver:20250309T090000
DTEND;TZID=America/Denver:20250309T153000
DTSTAMP:20260419T090301
CREATED:20240715T045416Z
LAST-MODIFIED:20240715T045416Z
UID:10000096-1741510800-1741534200@conahansdrivingschool.org
SUMMARY:Fort Collins Driver's Ed Classes - February / March 2025 - Sunday
DESCRIPTION:
URL:https://conahansdrivingschool.org/classes/fort-collins-drivers-ed-classes-february-march-2025-sunday/2025-03-09/
LOCATION:Fort Collins – Homewood Suites\, 1521 Oakridge Dr\, Fort Collins\, CO\, 80525\, United States
CATEGORIES:Fort Collins Driver’s Ed Classes
END:VEVENT
BEGIN:VEVENT
DTSTART;TZID=America/Denver:20250315T090000
DTEND;TZID=America/Denver:20250315T153000
DTSTAMP:20260419T090301
CREATED:20240715T045318Z
LAST-MODIFIED:20240715T045318Z
UID:10000087-1742029200-1742052600@conahansdrivingschool.org
SUMMARY:Fort Collins Driver's Ed Classes - February / March 2025 - Saturday
DESCRIPTION:
URL:https://conahansdrivingschool.org/classes/fort-collins-drivers-ed-classes-february-march-2025-saturday/2025-03-15/
LOCATION:Fort Collins – Homewood Suites\, 1521 Oakridge Dr\, Fort Collins\, CO\, 80525\, United States
CATEGORIES:Fort Collins Driver’s Ed Classes
END:VEVENT
BEGIN:VEVENT
DTSTART;TZID=America/Denver:20250316T090000
DTEND;TZID=America/Denver:20250316T153000
DTSTAMP:20260419T090301
CREATED:20240715T045416Z
LAST-MODIFIED:20240715T045416Z
UID:10000097-1742115600-1742139000@conahansdrivingschool.org
SUMMARY:Fort Collins Driver's Ed Classes - February / March 2025 - Sunday
DESCRIPTION:
URL:https://conahansdrivingschool.org/classes/fort-collins-drivers-ed-classes-february-march-2025-sunday/2025-03-16/
LOCATION:Fort Collins – Homewood Suites\, 1521 Oakridge Dr\, Fort Collins\, CO\, 80525\, United States
CATEGORIES:Fort Collins Driver’s Ed Classes
END:VEVENT
BEGIN:VEVENT
DTSTART;TZID=America/Denver:20250317T090000
DTEND;TZID=America/Denver:20250321T153000
DTSTAMP:20260419T090301
CREATED:20240715T050327Z
LAST-MODIFIED:20240715T050327Z
UID:10000122-1742202000-1742571000@conahansdrivingschool.org
SUMMARY:Loveland Driver's Ed Classes - Spring Break 2025
DESCRIPTION:
URL:https://conahansdrivingschool.org/classes/loveland-drivers-ed-classes-spring-break-2025/
LOCATION:Loveland – TownePlace Suites\, 256 E 2nd St.\, Loveland\, CO\, 80537\, United States
CATEGORIES:Loveland Driver’s Ed Classes
END:VEVENT
BEGIN:VEVENT
DTSTART;TZID=America/Denver:20250317T090000
DTEND;TZID=America/Denver:20250321T153000
DTSTAMP:20260419T090301
CREATED:20240715T050406Z
LAST-MODIFIED:20240715T050406Z
UID:10000123-1742202000-1742571000@conahansdrivingschool.org
SUMMARY:Fort Collins Driver's Ed Classes - Spring Break 2025
DESCRIPTION:
URL:https://conahansdrivingschool.org/classes/fort-collins-drivers-ed-classes-spring-break-2025/
LOCATION:Fort Collins – Homewood Suites\, 1521 Oakridge Dr\, Fort Collins\, CO\, 80525\, United States
CATEGORIES:Fort Collins Driver’s Ed Classes
END:VEVENT
BEGIN:VEVENT
DTSTART;TZID=America/Denver:20250324T090000
DTEND;TZID=America/Denver:20250328T153000
DTSTAMP:20260419T090301
CREATED:20240715T050243Z
LAST-MODIFIED:20250116T223225Z
UID:10000121-1742806800-1743175800@conahansdrivingschool.org
SUMMARY:Windsor Driver's Ed Classes - Spring Break 2025
DESCRIPTION:
URL:https://conahansdrivingschool.org/classes/windsor-drivers-ed-classes-spring-break-2025/
LOCATION:Windsor – 1525 Main Street\, 1525 Main Street\, Suite #B-8\, Windsor\, CO\, 80550\, United States
CATEGORIES:Windsor Driver’s Ed Classes
END:VEVENT
END:VCALENDAR